BEGIN:VCALENDAR
VERSION:2.0
PRODID:-//hacksw/handcal//NONSGML v1.0//EN
BEGIN:VEVENT
UID:1c56bcb385a808ff3121425f12ef3c97
DTSTAMP:20260422T061508Z

DTSTART:20221015T100000
DTEND:20221015T170000
SUMMARY:Assemblée Générale Moto
DESCRIPTION:Assemblée Générale de La Moto à 10h à Selonnet
LOCATION:
END:VEVENT

END:VCALENDAR
