BEGIN:VCALENDAR
VERSION:2.0
PRODID:-//hacksw/handcal//NONSGML v1.0//EN
BEGIN:VEVENT
UID:be2a1405294c20798b5611c31eb2bbda
DTSTAMP:20260422T000910Z

DTSTART:20230128T180000
DTEND:20230128T220000
SUMMARY:Grand Prix de Chabanon 2023
DESCRIPTION:Grand Prix de Chabanon à 18h00
LOCATION:
END:VEVENT

END:VCALENDAR
