BEGIN:VCALENDAR
VERSION:2.0
PRODID:-//hacksw/handcal//NONSGML v1.0//EN
BEGIN:VEVENT
UID:584a69ccdb99d7012bce601579266e31
DTSTAMP:20260422T061509Z

DTSTART:20221119T163000
DTEND:20221119T203000
SUMMARY:Assemblée Générale
DESCRIPTION:Assemblée Générale de l'Union Sportive de La Blanche
Samedi 19 novembre à partir de 19h30
Suivi d'un apéritif
A la salle polyvalente de Montclar.
LOCATION:
END:VEVENT

END:VCALENDAR
