BEGIN:VCALENDAR
VERSION:2.0
PRODID:-//hacksw/handcal//NONSGML v1.0//EN
BEGIN:VEVENT
UID:abb133136137a4a8f4f1534302c4846c
DTSTAMP:20260422T061920Z

DTSTART:20230902T100000
DTEND:20230902T160000
SUMMARY:Forum des Associations
DESCRIPTION:
LOCATION:
END:VEVENT

END:VCALENDAR
