BEGIN:VCALENDAR
VERSION:2.0
PRODID:-//hacksw/handcal//NONSGML v1.0//EN
BEGIN:VEVENT
UID:1ae907b4c7c441602a63a492e4012d12
DTSTAMP:20260421T082020Z

DTSTART:20160317T170000
DTEND:20160317T170000
SUMMARY:Assemblée générale
DESCRIPTION:Vous êtes tous conviés à l'Assemblée générale annuelle...
LOCATION:Seyne, France
END:VEVENT

END:VCALENDAR
