BEGIN:VCALENDAR
VERSION:2.0
PRODID:-//hacksw/handcal//NONSGML v1.0//EN
BEGIN:VEVENT
UID:576b88a700339dc67a2c958b8439cd2b
DTSTAMP:20260422T062717Z

DTSTART:20240824T080000
DTEND:20240825T184500
SUMMARY:Enduro Moto - 2ème Edition Achapaïre - 
DESCRIPTION:Seconde Edition ACHAPAIRE 2024

Enduro Moto

Cross Country Revisité

Quartier du Fau - 04140 Seyne les Alpes

24 & 25 Août 2024

LOCATION:
END:VEVENT

END:VCALENDAR
