BEGIN:VCALENDAR
VERSION:2.0
PRODID:-//hacksw/handcal//NONSGML v1.0//EN
BEGIN:VEVENT
UID:f06d00ed51f41fcaeec84653e89c53a5
DTSTAMP:20260422T031344Z

DTSTART:20240622T090000
DTEND:20240623T210000
SUMMARY:Concours Jeu Provençal et Pétanque
DESCRIPTION:?Section Pétanque et Jeu Provençal ?
?Samedi 22 et Dimanche 23 juin
Premier concours de Pétanque et Jeu Provençal organisé par l'USB en partenariat avec le Comité des Fêtes de Montclar 
A bientôt ?
LOCATION:
END:VEVENT

END:VCALENDAR
