BEGIN:VCALENDAR
VERSION:2.0
PRODID:-//hacksw/handcal//NONSGML v1.0//EN
BEGIN:VEVENT
UID:456ed2fd81119db98e90419c1e093b0f
DTSTAMP:20260422T031109Z

DTSTART:20240706T080000
DTEND:20240706T170000
SUMMARY:21ème Ran'Dormillouse
DESCRIPTION:21ème Édition de La Ran'Dormillouse
Nouvelle formule avec caravane de mulets 
LOCATION:
END:VEVENT

END:VCALENDAR
