BEGIN:VCALENDAR
VERSION:2.0
PRODID:-//hacksw/handcal//NONSGML v1.0//EN
BEGIN:VEVENT
UID:bb3473805fc8e9f463c0b647dfd2f6ef
DTSTAMP:20260422T091317Z

DTSTART:20160814T000000
DTEND:20160814T000000
SUMMARY:Trail de Dormillouse 2016
DESCRIPTION:Cette épreuve de course nature est ouverte à tous les athlètes, hommes ou femmes, licenciés ou non, à partir de la catégorie cadet (1999)pour le parcours de 10 km, junior (1997) pour le 24 km et espoir (1995) pour le 42 km.
LOCATION:04140 Montclar, France
END:VEVENT

END:VCALENDAR
