BEGIN:VCALENDAR
VERSION:2.0
PRODID:-//hacksw/handcal//NONSGML v1.0//EN
BEGIN:VEVENT
UID:71385d54406a396923d0c30dd0712c6a
DTSTAMP:20260422T061546Z

DTSTART:20160619T000000
DTEND:20160619T000000
SUMMARY:Effort vauban 2016
DESCRIPTION:6ème édition de l'Effort Vauban comptant pour le super Challenge FSGT 2016 et le Challenge départemental des pompiers.

Course pédestre à allure libre composée de deux parcours: 12 Km et 24km au départ de la Maison des jeunes (gymnase municipal de Seyne-les-Alpes) en contre-bas du village.

Le parcours du 24km est essentiellement sur chemin avec des points de vue magnifiques tel que le plateau d'Iroire à 1681 m d'altitude et le sommet de la Pare à 1400m d'altitude surplombant la Vallée de la Blanche.
LOCATION:04140 Seyne, France
END:VEVENT

END:VCALENDAR
