BEGIN:VCALENDAR
VERSION:2.0
PRODID:-//hacksw/handcal//NONSGML v1.0//EN
BEGIN:VEVENT
UID:fae8d7192ece5a175959952ef04a017f
DTSTAMP:20260422T045640Z

DTSTART:20160612T000000
DTEND:20160612T000000
SUMMARY:2ème Trial de la Blanche
DESCRIPTION:2ème édition du Trial de La Blanche à Selonnet .
Manche du trial du Championnat de Provence et manche régionale du Championnat de France de motos classiques et historiques
LOCATION:04140 Selonnet, France
END:VEVENT

END:VCALENDAR
