BEGIN:VCALENDAR
VERSION:2.0
PRODID:-//hacksw/handcal//NONSGML v1.0//EN
BEGIN:VEVENT
UID:7b1232011521cab5ec7af45261f154e1
DTSTAMP:20260422T061547Z

DTSTART:20160608T140000
DTEND:20160608T170000
SUMMARY:TRIATHLON USB NATATION -USB VTT
DESCRIPTION:Mercredi 8 juin 
de 14h à 17h 
à la maison des jeunes.
04140 Seyne-les-Alpes


Les épreuves : natation, V.T.T. et course à pied croisé (Bike and Run) sont adaptées à 3 catégories :

mini-triathlon : C.P. / C.E.1
triathlon-middle : C.E.2 / C.M.1
triathlon-expert : C.M.2 / collège

LOCATION:04140 Seyne, France
END:VEVENT

END:VCALENDAR
