BEGIN:VCALENDAR
VERSION:2.0
PRODID:-//hacksw/handcal//NONSGML v1.0//EN
BEGIN:VEVENT
UID:1cdd1170b0454a95e591fbdd9e51b23a
DTSTAMP:20260422T061413Z

DTSTART:20160710T000000
DTEND:20160710T000000
SUMMARY:Ran ' Dormillouse 14ème édition
DESCRIPTION:Randonnez comme vous voulez au départ de Seyne, Montclar, St Vincent les Forts , jusqu’au Fort de Dormillouse. RDV au sommet à 11h : animation musicale, Lever des couleurs, lecture de paysage, repas « grillades ». 
LOCATION:04140 Montclar, France
END:VEVENT

END:VCALENDAR
