BEGIN:VCALENDAR
VERSION:2.0
PRODID:-//hacksw/handcal//NONSGML v1.0//EN
BEGIN:VEVENT
UID:bce22af20fdc07a49a687b516edeb11b
DTSTAMP:20260422T061413Z

DTSTART:20160910T080000
DTEND:20160911T170000
SUMMARY:20ème RAID de la Vallée de la Blanche
DESCRIPTION:Course d’orientation par équipe de deux personnes.
Nuit en bivouac. Autonomie sur deux jours.
Circuits de difficiles à faciles A, B, C, D, E.
Course au score sur le circuit E avec bivouac imposé.
UNE NAVETTE SERA MISE A DISPOSITION DEPUIS Gap à l’arrivéedu train de nuit de Paris 7HEURES
Tarif licencies 58€
Tarif non licencies 70€ Pour deux personnes
Inscription et règlement de course sur le site thalweg 04,
CONTACT 0492350917 louvirasoleu@hotmail.fr
Organisé par le club de course d’orientation de la vallée de la Blanche« Thalweg 04 »
En collaboration avec la Fédération Française de Course d’Orientation.
Des lots à gagner sur tous les circuits et une ambiance sympa, repas offert à l’arrivée.

N’hésitez pas, inscrivez vous, appelez nous

LOCATION:
END:VEVENT

END:VCALENDAR
