BEGIN:VCALENDAR
VERSION:2.0
PRODID:-//hacksw/handcal//NONSGML v1.0//EN
BEGIN:VEVENT
UID:ac562aabc2246928af89f22ab392b570
DTSTAMP:20260421T222104Z

DTSTART:20160918T000000
DTEND:20160918T000000
SUMMARY:DH KIDS LE GRAND PUY
DESCRIPTION:DH Kids VTT dimanche 18 Septembre 2016

Ouvert aux catégories POUSSINS, PUPILLES, BENJAMINS,  MINIMES et CADETS
Programme

    Inscription et retrait des dossards 8h30
    Reconnaissance 10h / 12h
    1er RUN 13h
    2ème RUN 14h

Inscription

Tarif : 16€   (la licence ou certificat médical obligatoire pour retirer le dossard)
Sur place: 20€  
 

Veuillez remplir et nous retourner la fiche d'inscription soit par mail à contact@usbseyne.com ou par voie postale à l'adresse suivante:

Union Sportive de la Blanche Section VTT
Maison des Jeunes
04140 Seyne-les-Alpes


Mode de paiement: chèque, chèque vacance, coupon sport (par voie postale accompagné du bulletin) ou carte bancaire (en ligne uniquement ci-dessus jusqu'au vendredi 16 septembre à 16h30 )
LOCATION:Le Grand Puy, 04140 Seyne, France
END:VEVENT

END:VCALENDAR
