BEGIN:VCALENDAR
VERSION:2.0
PRODID:-//hacksw/handcal//NONSGML v1.0//EN
BEGIN:VEVENT
UID:a78354f6fe2f337703abf97871cea5b6
DTSTAMP:20260421T192937Z

DTSTART:20161002T000000
DTEND:20161002T000000
SUMMARY:RANDURO VTT TRANS'BLANCHE
DESCRIPTION:Renseignements

L'USB VTT Blanche Serre-Ponçon organise un enduro convivial sans la pression du chrono ouvert à tous petits et grands (à partir de 9 ans ; les enfants jusqu'à la catégorie CADET devront être en binôme accompagnés d'un adulte ; )

Venez seul ,en famille ou entre potes découvrir et profiter des sentiers de la station du Grand Puy et alentours;
Pour cette édition on vous propose deux parcours de 35 et 12 km au départ du Grand Puy

Départ: Station du Grand Puy
Arrivée: Verdaches

Une navette gratuite sera à disposition des participants pour remonter à la station (les vélos restant dans un parc gardé)
Tarifs:                                        
Parcours 	35km  	12km

Adulte Licencié FFC ou FFCT 	

18€    
	 Non licencié  	
22€    
	 
- 18 ans licencié FFCT / FFC 	GRATUIT 	 
-18ans non licencié 	
20€    
	 
Inscription possible sur place, majoration de 3€/pers
    Le tarif comprend la remontée mécanique, les 2 ravitaillements et le buffet d'arrivée.

LOCATION:
END:VEVENT

END:VCALENDAR
