BEGIN:VCALENDAR
VERSION:2.0
PRODID:-//hacksw/handcal//NONSGML v1.0//EN
BEGIN:VEVENT
UID:db48df87e789df9090970ee26a63fc00
DTSTAMP:20260422T061547Z

DTSTART:20160626T133000
DTEND:20160626T180000
SUMMARY:Sortie Rafting
DESCRIPTION:Dans le cadre du PEL , le club des marsouins (USB natation ) organise  le dimanche 26 Juin 2016 une sortie rafting à " Rock'n RAFT" aux Thuiles (04)

La sortie est ouverte à tous les jeunes du canton de 10 à 16 ans

Le départ aura lieu à la maison des jeunes à 13h30 , (transport en mini-bus ) retour à 18h.

L'inscription est de 15€/personne (espèce ou chèque à l'ordre de USB Marsouin)

La date limite des inscriptions est fixée au Mercredi 22 Juin 2016.

Attention le nombre de place est limité à 16.

Pour tous renseignements contacter l'USB Seyne au 04 92 34 86 07 ou par mail : contact@usbseyne.com
LOCATION:04400 Les Thuiles, France
END:VEVENT

END:VCALENDAR
