BEGIN:VCALENDAR
VERSION:2.0
PRODID:-//hacksw/handcal//NONSGML v1.0//EN
BEGIN:VEVENT
UID:46f301a7313d972cd5aadbbaf07da30d
DTSTAMP:20260422T044345Z

DTSTART:20160903T100000
DTEND:20160903T150000
SUMMARY:Forum des associations
DESCRIPTION:Le forum des associations aura lieu à Auzet le samedi 3 septembre 2016.

 De 10h à 15h : présentation des différentes associations, nombreuses animations proposées. 10h : Ouverture des stands - 12h15: Apéritif offert par la mairie d'Auzet .

Tout au long du forum, animations diverses :  aïkido, danses country, danses médiévales, parties de boules , land'art , ateliers de vannerie et de chaudronnerie ,vtt , projection de photos et vidéos .......

 Buvette et restauration sur place
LOCATION:04140 Auzet, France
END:VEVENT

END:VCALENDAR
