BEGIN:VCALENDAR
VERSION:2.0
PRODID:-//hacksw/handcal//NONSGML v1.0//EN
BEGIN:VEVENT
UID:f301a13b23eb0e33d4dfc81a81a6d8ec
DTSTAMP:20260422T044345Z

DTSTART:20161007T203000
DTEND:20161007T203000
SUMMARY:Veillée du bastion
DESCRIPTION:Veillée du bastion , le vendredi 7 octobre 2016
thème : " histoire du sport dans le Pays de Seyne" 
LOCATION:04140 Seyne, France
END:VEVENT

END:VCALENDAR
