BEGIN:VCALENDAR
VERSION:2.0
PRODID:-//hacksw/handcal//NONSGML v1.0//EN
BEGIN:VEVENT
UID:007420174a6fefa6fff6312aafc7dbf8
DTSTAMP:20260422T091309Z

DTSTART:20161001T140000
DTEND:20161002T170000
SUMMARY:Concours de boules , Challenge sociétaire
DESCRIPTION:Challenge sociétaire doublette, le Weekend du 01 et 02 octobre 2016, à la Maison des jeunes à Seyne, en clôture de la saison 2016.
Ce Weekend bouliste, sera organisé de la manière suivante : 
                                Samedi 01 octobre à 14h
Pétanque doublette Inscription 10€/équipe
Prix : 80€+FP + Coupes

                                 Dimanche 02 octobre à 8h30

Provençal doublette (Parties en 11 points) Inscription 10€/équipe
Prix : 80€+FP+ Coupes

Sur place buvette et grillades dans une ambiance conviviale !
 
LOCATION:04140 Seyne, France
END:VEVENT

END:VCALENDAR
