BEGIN:VCALENDAR
VERSION:2.0
PRODID:-//hacksw/handcal//NONSGML v1.0//EN
BEGIN:VEVENT
UID:d92015fafe99ada5c3333547d1bdf8c4
DTSTAMP:20260422T013326Z

DTSTART:20161105T180000
DTEND:20161106T020000
SUMMARY:Les trophées de l'USB 2016
DESCRIPTION:Le samedi 5 novembre à 18h aura lieu la 1ere remise des prix de L'Union Sportive de la Blanche .Tous les enfants de l'USB seront récompensés ainsi que les diplômes obtenus et les performances réalisées au cours de cette année , les entraîneurs , arbitres , animateurs et bénévoles seront également valorisés . Cette remise des prix sera suivie d'un buffet et d'une soirée dansante (5 € / enfants , 10€/ adultes ) .Pour participer rapprochez vous de votre section au plus tôt ou du bureau de l'USB . les inscriptions seront closes le 25 octobre . Vous trouverez les infos et les bulletins de participation sur notre site : http://www.usbseyne.com/usb-seyne/actualite/302-remise-des-prix-2016
LOCATION:04140 Seyne, France
END:VEVENT

END:VCALENDAR
