BEGIN:VCALENDAR
VERSION:2.0
PRODID:-//hacksw/handcal//NONSGML v1.0//EN
BEGIN:VEVENT
UID:1928a7ec41d9c06bddb33d851960bd89
DTSTAMP:20260422T013326Z

DTSTART:20170402T100000
DTEND:20170402T100000
SUMMARY:Séance découverte MARCHE NORDIQUE 
DESCRIPTION:Pour la reprise de la Marche Nordique le dimanche 2 avril 2017 à 10H , Laetitia vous propose une séance découverte suivi de la séance habituelle pour les personnes déjà inscrites. Le lieu du rendez vous sera communiqué quelques jours avant.

Cette séance découverte est ouverte à tous !!!
LOCATION:
END:VEVENT

END:VCALENDAR
