BEGIN:VCALENDAR
VERSION:2.0
PRODID:-//hacksw/handcal//NONSGML v1.0//EN
BEGIN:VEVENT
UID:fe3b2010422a9c0ecfe14cdaeb9befac
DTSTAMP:20260422T000557Z

DTSTART:20170304T170000
DTEND:20170304T170000
SUMMARY:GRAND PRIX de la Vallée
DESCRIPTION:
LOCATION:Chabanon, 04140 Selonnet, France
END:VEVENT

END:VCALENDAR
