BEGIN:VCALENDAR
VERSION:2.0
PRODID:-//hacksw/handcal//NONSGML v1.0//EN
BEGIN:VEVENT
UID:1dce4cd47404d7b4eb485a67e02721c0
DTSTAMP:20260422T074603Z

DTSTART:20170128T090000
DTEND:20170129T190000
SUMMARY:TOURNOI de HOCKEY
DESCRIPTION:Tournoi de hockey adultes à la patinoire de Saint Jean-Montclar 
LOCATION:04140 Montclar, France
END:VEVENT

END:VCALENDAR
