BEGIN:VCALENDAR
VERSION:2.0
PRODID:-//hacksw/handcal//NONSGML v1.0//EN
BEGIN:VEVENT
UID:ea1b29eb8fe838fb6a54e4bc248ac931
DTSTAMP:20260422T074538Z

DTSTART:20170204T090000
DTEND:20170205T173000
SUMMARY:LES AMIS de la NEIGE
DESCRIPTION:Course d'orientation en skis de fond ou raquettes
LOCATION:04140 Selonnet, France
END:VEVENT

END:VCALENDAR
