BEGIN:VCALENDAR
VERSION:2.0
PRODID:-//hacksw/handcal//NONSGML v1.0//EN
BEGIN:VEVENT
UID:a7cf926f2debfc0a6e9b49e6e206f14f
DTSTAMP:20260422T000749Z

DTSTART:20161230T180000
DTEND:20161230T180000
SUMMARY:Loto du Ski-club
DESCRIPTION:Loto du Ski-club à la salle polyvalente de Montclar
LOCATION:04140 Montclar, France
END:VEVENT

END:VCALENDAR
