BEGIN:VCALENDAR
VERSION:2.0
PRODID:-//hacksw/handcal//NONSGML v1.0//EN
BEGIN:VEVENT
UID:f83fbf22ab93e26d8890b3bc009b9c9f
DTSTAMP:20260422T091651Z

DTSTART:20170226T093000
DTEND:20170227T000000
SUMMARY:Match de hockey  Montclar/Orcières 
DESCRIPTION:Match de hockey à Montclar
rencontres jeunes

LOCATION:04140 Montclar, France
END:VEVENT

END:VCALENDAR
