BEGIN:VCALENDAR
VERSION:2.0
PRODID:-//hacksw/handcal//NONSGML v1.0//EN
BEGIN:VEVENT
UID:fc78782afd7fcfc3e1e39039c9949e97
DTSTAMP:20260422T045548Z

DTSTART:20170611T000000
DTEND:20170611T000000
SUMMARY:Trial de La Blanche
DESCRIPTION:La section moto de l'USB  organise le Dimanche 11 juin 2017 une épreuve du championnat de trial de ligue de Provence et une manche régionale du championnat de France de motos anciennes et historiques sur les communes de Selonnet et Seyne-les-Alpes, au départ de Selonnet.
LOCATION:04140 Selonnet, France
END:VEVENT

END:VCALENDAR
