BEGIN:VCALENDAR
VERSION:2.0
PRODID:-//hacksw/handcal//NONSGML v1.0//EN
BEGIN:VEVENT
UID:81a5807b7c88239ce3d9765c57f5bb2e
DTSTAMP:20260422T013233Z

DTSTART:20170618T000000
DTEND:20170618T000000
SUMMARY:Effort Vauban : 7ème édition 
DESCRIPTION:7ème édition de l'Effort Vauban comptant pour le super Challenge FSGT 2017 et le Challenge départemental des pompiers.

Course pédestre à allure libre composée de deux parcours: 12 Kms et 24 kms au départ de la Maison des jeunes (gymnase municipal de Seyne-les-Alpes) en contre-bas du village.

Le parcours du 24 kms est essentiellement sur chemin avec des points de vue magnifiques tel que le plateau d'Iroire à 1681 m d'altitude et le sommet de la Pare à 1400 m d'altitude surplombant la Vallée de la Blanche.

Le parcours du 12 kms débute sur route et rejoint le parcours du 24 kms au niveau de Chardavon.

L'arrivée des deux parcours se fait dans l'enceinte du Fort Vauban , citadelle datant du XVIIème siècle perchée au dessus du village, où les coureurs pourront apprécier une magnifique vue sur la chaine montagneuse de la Blanche.1

Animations à l'arrivée avec les baladins de la Blanche , aperitif dégustation de produits locaux , remise des prix
LOCATION:04140 Seyne, France
END:VEVENT

END:VCALENDAR
