BEGIN:VCALENDAR
VERSION:2.0
PRODID:-//hacksw/handcal//NONSGML v1.0//EN
BEGIN:VEVENT
UID:1c449cdc0873aded3f9b91bac5a7bb5b
DTSTAMP:20260422T013233Z

DTSTART:20170813T000000
DTEND:20170813T000000
SUMMARY:Trail de Dormillouse : 6ème édition
DESCRIPTION:6ème édition : Dimanche 13 août 2017

Le Trail de Dormillouse compte pour le super Challenge FSGT 2017.

Le parcours du 24 kms fait partie du Challenge des Trails de Provence

Course nature en terrain varié (piste forestière, chemin monotrace et alpages) composée de trois parcours: 10, 24 et 42 km au départ de la station de Montclar (stade municipal derrière le batiment communal).

Une randonnée de 11km accompagnée gratuite est proposée au départ de la station.

Le parcours 24km permet de faire le tour de Dormillouse, qui domine le lac de Serre-Ponçon, les vallées de l'Ubaye et de la Blanche, le parcours 42km emprunte le 24km et passe par le fort de Dormillouse et les magiques crêtesde la chaine de la Blanche.

Un trail pour les enfants. Ouvert à tous de 6 à 15 ans, inscription gratuite, récompenses pour tous. Inscription sur place. Parcours de différentes distances en fonction de l'âge.

Distribution de plateaux repas sur place à partir de 12h00 et remise des prix à l'issue de la course à 15h30.
LOCATION:04140 Montclar, France
END:VEVENT

END:VCALENDAR
