BEGIN:VCALENDAR
VERSION:2.0
PRODID:-//hacksw/handcal//NONSGML v1.0//EN
BEGIN:VEVENT
UID:f47d6797914850b398434f9f17ebf810
DTSTAMP:20260422T044504Z

DTSTART:20170624T080000
DTEND:20170625T193000
SUMMARY:Bol d'or : 7ème édition 
DESCRIPTION:La 7ème édition du bol d'or se déroulera les samedi 24 et dimanche 25 juin 2017 à Seyne les Alpes
Programme du week-end

Samedi 24 juin

    A partir de 8h30, accueil , remise des cartons et petit déjeuner campagnard
    10h : Début des parties qualificatives
    12h : restauration sur place (snack , pizzeria , buvette, sandwich )
    14h : suite des parties qualificatives
    19h : Fin des parties
    En soirée : Apéritifs et restauration sur place

Dimanche 25 juin

    8h : petit déjuner campagnard
    9h : suite et fin des parties qualificatives
    12h : Apéritif offert par le club
    12h30: repas pris en commun (compris dans l'inscription)
    14h : reprise avec 1/4 , 1/2 finale du bol d'or
    14h30: partie de consolation primée
    19h30 : Clôture de la manifastation avec remise des prix et apéritif

LOCATION:04140 Seyne, France
END:VEVENT

END:VCALENDAR
