BEGIN:VCALENDAR
VERSION:2.0
PRODID:-//hacksw/handcal//NONSGML v1.0//EN
BEGIN:VEVENT
UID:0734489e734c127667a703995e72de07
DTSTAMP:20260422T013233Z

DTSTART:20170709T000000
DTEND:20170709T000000
SUMMARY:Ran'Dormillouse 2017
DESCRIPTION:15ème édition 
Randonnez comme vous voulez au départ de Montclar, St Vincent-les-Forts ou Seyne pour rejoindre le Fort de Dormillouse à 2505m d'altitute avec une vue imprenable sur les vallées de la Blanche, de Serre-Ponçon et de l'Ubaye.
LOCATION:04140 Montclar, France
END:VEVENT

END:VCALENDAR
