BEGIN:VCALENDAR
VERSION:2.0
PRODID:-//hacksw/handcal//NONSGML v1.0//EN
BEGIN:VEVENT
UID:48930896fc54915850903e7639c84c89
DTSTAMP:20260422T045546Z

DTSTART:20170910T000000
DTEND:20170910T000000
SUMMARY:Endurance Tout Terrain
DESCRIPTION:

DIMANCHE 10 SEPTEMBRE 2017 

La section moto de l'Union Sportive de la Blanche organise une épreuve d'endurance T.T. Motos quartier du FAU sur un domaine de plus de 800 hectares sur la commune de Seyne les Alpes

Cette manifestation devrait réjouir les pilotes car elle se déroulera à  travers bois avec des dénivelés importants .

Cette épreuve est inscrite au calendrier 2017 du Championnat de Provence , deux courses se dérouleront le même jour 2 heures et 4 heures .

Les engagements se font sur le site engage sports

Buvette et restauration sur place , l''accès étant gratuite pour les spectateurs 

Pour tous renseignements contactez

le président :  Mr Christophe CUCHE 

mail : cuche.christophe@orange.fr ou motoclub@usbseyne.com

tel:  0650309997 


LOCATION:04140 Seyne, France
END:VEVENT

END:VCALENDAR
