BEGIN:VCALENDAR
VERSION:2.0
PRODID:-//hacksw/handcal//NONSGML v1.0//EN
BEGIN:VEVENT
UID:1fce0a6266d7a66cee67464a3197c5db
DTSTAMP:20260422T074442Z

DTSTART:20170513T000000
DTEND:20170513T000000
SUMMARY:Tournoi de Rugby 
DESCRIPTION:Tournoi de rugby regroupant 150 enfants venus des Alpes de Haute-Provence et Hautes Alpes 
LOCATION:04140 Seyne, France
END:VEVENT

END:VCALENDAR
