BEGIN:VCALENDAR
VERSION:2.0
PRODID:-//hacksw/handcal//NONSGML v1.0//EN
BEGIN:VEVENT
UID:9afed4171ec1a77a2c7dbf281cb28cad
DTSTAMP:20260422T062307Z

DTSTART:20170409T000000
DTEND:20170409T000000
SUMMARY:Championnat départemental de pétanque
DESCRIPTION:Dimanche 9 avril 2017
Seyne les Alpes

Championnat départemental de pétanque triplettes "féminines"
-Inscriptions avant le 6 avril 2017 dans les sociétés
-Début des parties à 9h00 par poules puis élimination directe
-Déléguée de la compétition : Mme Carole Pierrot
-Arbitre : Mr Jean-Claude Sorello .
-Frais de participation : 1€ par joueuse (reversé à la commission jeunesse )
-Haut identique dés la 1ere partie quelles que soient les conditions climatiques 
-1 équipe sera qualifiée pour le championnat de France triplettes féminine les 1 et 2 juillet à Ax les Thermes (09)
-2 équipes seront qualifiées pour la ligue le 30 avril 2017 au Pontet (84)
-le tirage au sort aura lieu au comité
-règlement FFPJP


LOCATION:04140 Seyne, France
END:VEVENT

END:VCALENDAR
