BEGIN:VCALENDAR
VERSION:2.0
PRODID:-//hacksw/handcal//NONSGML v1.0//EN
BEGIN:VEVENT
UID:11375bc85ae2dd24c6de76a2b2a0f1d2
DTSTAMP:20260422T044754Z

DTSTART:20170422T140000
DTEND:20170423T190000
SUMMARY:Challenge sociétaire doublette
DESCRIPTION:Week end bouliste à la maison des jeunes à Seyne les Alpes
Samedi 22 avril 2017 à 14H

Pétanque tête à tête

Inscription : 5€/ personne

Prix 80€+FP+Coupes

Dimanche 23 avril 2017 à 8H30

Pétanque tête à tête

Inscription : 5€/ personne

Prix 80€+FP+Coupes

 SUR PLACE BUVETTE et GRILLADES dans une ambiance conviviale
LOCATION:04140 Seyne, France
END:VEVENT

END:VCALENDAR
