BEGIN:VCALENDAR
VERSION:2.0
PRODID:-//hacksw/handcal//NONSGML v1.0//EN
BEGIN:VEVENT
UID:1f5f2ce01cb2cada247cffc1c7687629
DTSTAMP:20260421T192049Z

DTSTART:20170429T140000
DTEND:20170429T140000
SUMMARY:Reprise VTT printemps 2017
DESCRIPTION:Pour la reprise on vous propose une séance commune a tous les groupes le samedi 29 Avril à 14H à Montclar au programme:

- présentation des nouveaux entraîneurs
- une petite foire au matériel, achats/vente ( amener votre matériel à vendre ; vélos, protections, vêtements...pensez à mettre une étiquette avec le tarif) 
- des zones techniques, petit slalom pour ce remettre sur le vélo en douceur
- une petite virée sur les chemins pour ce dégourdir les jambes, les parents sont les bienvenues!!
- présentation du programme de la saison (entraînements, stage, courses...)


PARLEZ EN AUTOUR DE VOUS !!!!!!! 
LOCATION:04140 Montclar, France
END:VEVENT

END:VCALENDAR
