BEGIN:VCALENDAR
VERSION:2.0
PRODID:-//hacksw/handcal//NONSGML v1.0//EN
BEGIN:VEVENT
UID:f8df0180a7f5c3be63d39579e91a4baa
DTSTAMP:20260421T082158Z

DTSTART:20170617T000000
DTEND:20170617T000000
SUMMARY:Tournoi de foot -Challenge Pitou
DESCRIPTION:Comme chaque année nous vous invitons à venir passer une belle journée en souvenir de Pitou!

Tournoi Sixte de ouvert aux licenciés et aux non licenciés de plus de 17 ans.

Toute la journée : buvette, sandwichs, grillades,...

Organisé par l'USB Foot et la famille Barles.

Infos et inscriptions au : 06.80.24.93.94

On vous attends nombreux !!
LOCATION:04140 Seyne, France
END:VEVENT

END:VCALENDAR
