BEGIN:VCALENDAR
VERSION:2.0
PRODID:-//hacksw/handcal//NONSGML v1.0//EN
BEGIN:VEVENT
UID:627983d591570100f923de98c91480eb
DTSTAMP:20260421T203843Z

DTSTART:20170602T173000
DTEND:20170602T173000
SUMMARY:Passage de grades 2017 
DESCRIPTION:Passage de grade 
Pour les ados et adultes RDV le 2 juin à 18h00 au dojo.
Les passages de grade cette saison se feront sur Seyne.
Tenue Complète Obligatoire :Pantalon ,Protection ...pied .... tibia ... dents ... coquille Gants ...,tee-shirt blanc ou du club pour ceux qui l'ont , une gourde d'eau.
LOCATION:04140 Seyne, France
END:VEVENT

END:VCALENDAR
