BEGIN:VCALENDAR
VERSION:2.0
PRODID:-//hacksw/handcal//NONSGML v1.0//EN
BEGIN:VEVENT
UID:f0912f3f5bf899932800a3283438eca6
DTSTAMP:20260422T061546Z

DTSTART:20170621T140000
DTEND:20170621T170000
SUMMARY:Triathlon 2017
DESCRIPTION:l'USB NATATION en collaboration avec l'USB VTT organise un duathlon-triathlonaffiche Triathlon 2017 vignette

Le Mercredi 21 juin
 de 14h à 17h
à la maison des jeunes.

Les épreuves : natation, V.T.T. et course à pied croisé (Bike and Run) sont adaptées à 3 catégories :

mini-triathlon : C.P. / C.E.1
triathlon-middle : C.E.2 / C.M.1
triathlon-expert : C.M.2 / collège
LOCATION:04140 Seyne, France
END:VEVENT

END:VCALENDAR
