BEGIN:VCALENDAR
VERSION:2.0
PRODID:-//hacksw/handcal//NONSGML v1.0//EN
BEGIN:VEVENT
UID:96dd3ee770231996df21bcf352ae9141
DTSTAMP:20260422T061453Z

DTSTART:20170719T000000
DTEND:20170719T000000
SUMMARY:challenge course d'orientation
DESCRIPTION:Challenge de ourse d'orientation 04/05 à Chabanon le 19 juillet 2017 
LOCATION:04140 Selonnet, France
END:VEVENT

END:VCALENDAR
