BEGIN:VCALENDAR
VERSION:2.0
PRODID:-//hacksw/handcal//NONSGML v1.0//EN
BEGIN:VEVENT
UID:f7f5beb3ddf51a34da24facbd7ddd644
DTSTAMP:20260422T013233Z

DTSTART:20171007T000000
DTEND:20171007T000000
SUMMARY:Randonnée Monges-Alpes 2017
DESCRIPTION:Randonnée touristique automobile se déroulant sur 350KM dans les Alpes de Haute Provence et Haute Alpes
LOCATION:04140 Selonnet, France
END:VEVENT

END:VCALENDAR
