BEGIN:VCALENDAR
VERSION:2.0
PRODID:-//hacksw/handcal//NONSGML v1.0//EN
BEGIN:VEVENT
UID:fbffc998cd408a1b2fe16f52d6672b8c
DTSTAMP:20260422T013233Z

DTSTART:20170916T100000
DTEND:20170916T150000
SUMMARY:Forum des associations
DESCRIPTION: De 10h à 15h : présentation des différentes associations, nombreuses animations proposées.

10h : Ouverture des stands - 

Tout au long du forum, animations diverses : démo de full contact, danses country, danses médiévales,

 Buvette et restauration sur place
LOCATION:04140 Barles, France
END:VEVENT

END:VCALENDAR
