BEGIN:VCALENDAR
VERSION:2.0
PRODID:-//hacksw/handcal//NONSGML v1.0//EN
BEGIN:VEVENT
UID:7e5b53c3c45444ac6cdc536f37300ed8
DTSTAMP:20260422T013219Z

DTSTART:20171104T000000
DTEND:20171104T000000
SUMMARY:Les trophées de l'USB
DESCRIPTION:Le samedi 4 novembre 2017 à 14H aura lieu l'assemblée générale de l'USB suivie à 17H par la deuxième édition des trophées de l'USB  à la maison des jeunes à Seyne les Alpes

Afin que cette  soirée qui se veut festive se présente dans les meilleures conditions,il est demandé à chaque section de faire un point  et nous communiquer le nombre d'enfants ( tous les enfants seront récompensés) , les diplômes obtenus et les performances réalisées au cours de l'année et le noms des personnes que vous souhaiteriez valoriser (entraîneurs , arbitres , animateurs , commissaires , bénévoles .....) 

Pour l' organisation du repas ( paella + dessert) il faudrait également connaitre le nombre de personnes qui vont y prendre part .


Chaque section s'occupe d'inscrire ses adhérents au repas et de transmettre les infos au bureau .
Ci-dessous un petit tableau à compléter et à retourner AVANT le 28 OCTOBRE soit par mail : contact@usbseyne.com  , soit au bureau de l'USB maison des jeunes 04140 Seyne les Alpes

ATTENTION REPAS SUR RESERVATION , LES PLACES SONT LIMITEES !!!!!!! 
La participation au repas est de 8 EUR pour les enfants ( - de 12 ans) et 13 EUR pour les adultes

Pour tous renseignements 04 92 34 86 07 / contact@usbseyne.com
LOCATION:04140 Seyne, France
END:VEVENT

END:VCALENDAR
