BEGIN:VCALENDAR
VERSION:2.0
PRODID:-//hacksw/handcal//NONSGML v1.0//EN
BEGIN:VEVENT
UID:ff753ce7031aa6072223342933f8f3f3
DTSTAMP:20260422T013234Z

DTSTART:20171115T183000
DTEND:20171115T183000
SUMMARY:réunion escalade
DESCRIPTION:PROJET SECTION ESCALADE
En vue de la création de l’activité escalade,
L’Union Sportive de la Blanche organise une réunion le 15 novembre 2017
A 18h30 à la salle sous la mairie à
Seyne les Alpes

Pour tous renseignements : 04 92 34 86 07
contact@usbseyne.com

VENEZ NOMBREUX !!!!!!!!!

LOCATION:04140 Seyne, France
END:VEVENT

END:VCALENDAR
