BEGIN:VCALENDAR
VERSION:2.0
PRODID:-//hacksw/handcal//NONSGML v1.0//EN
BEGIN:VEVENT
UID:3c03e3c61c1d9413e7a6341ff7a8137c
DTSTAMP:20260421T221329Z

DTSTART:20171113T180000
DTEND:20171113T180000
SUMMARY:Assemblée extraordinaire du VTT
DESCRIPTION:ASSEMBLEE EXTRAORDINAIRE DE LA SECTION VTT
le 13 novembre 2017 à 18h à la salle sous la mairie de Seyne les Alpes
TOUTES LES BONNES VOLONTES SONT LES BIENVENUES 
ON VOUS ATTEND NOMBREUX 
DIFFUSEZ l'INFO AUTOUR DE VOUS 
LOCATION:04140 Seyne, France
END:VEVENT

END:VCALENDAR
