BEGIN:VCALENDAR
VERSION:2.0
PRODID:-//hacksw/handcal//NONSGML v1.0//EN
BEGIN:VEVENT
UID:884e32e6fa052064dbfe7662be03421b
DTSTAMP:20260422T013234Z

DTSTART:20171223T090000
DTEND:20171223T090000
SUMMARY:Ouverture site Nordique du Fanget
DESCRIPTION:
LOCATION:Le Fanget, 04140 Auzet, France
END:VEVENT

END:VCALENDAR
