BEGIN:VCALENDAR
VERSION:2.0
PRODID:-//hacksw/handcal//NONSGML v1.0//EN
BEGIN:VEVENT
UID:9ed8a3761a187fe78ffed29ffd97f2ba
DTSTAMP:20260422T013704Z

DTSTART:20180423T184500
DTEND:20180423T204500
SUMMARY:Conseil d'administration de l'USB
DESCRIPTION:
LOCATION:
END:VEVENT

END:VCALENDAR
