BEGIN:VCALENDAR
VERSION:2.0
PRODID:-//hacksw/handcal//NONSGML v1.0//EN
BEGIN:VEVENT
UID:7e3d51f753cdb44055f37bcd6b1b1680
DTSTAMP:20260422T061643Z

DTSTART:20180425T113000
DTEND:20180425T143000
SUMMARY:Inscription Marsouin Club
DESCRIPTION:Inscription Marsouin Club à la Maison des jeunes
LOCATION:
END:VEVENT

END:VCALENDAR
