BEGIN:VCALENDAR
VERSION:2.0
PRODID:-//hacksw/handcal//NONSGML v1.0//EN
BEGIN:VEVENT
UID:030df1fafb2a13364b04d01c50691436
DTSTAMP:20260421T223200Z

DTSTART:20180519T140000
DTEND:20180519T180000
SUMMARY:Reprise des séances de VTT à Montclar
DESCRIPTION:
LOCATION:
END:VEVENT

END:VCALENDAR
